BEGIN:VCALENDAR
VERSION:2.0
PRODID:-//hacksw/handcal//NONSGML v1.0//EN
BEGIN:VTIMEZONE
TZID:Europe/Amsterdam
BEGIN:STANDARD
DTSTART:20201025T030000
TZOFFSETFROM:+0200
TZOFFSETTO:+0100
RRULE:FREQ=YEARLY;BYMONTH=10;BYDAY=-1SU
END:STANDARD
BEGIN:DAYLIGHT
DTSTART:20200329T020000
TZOFFSETFROM:+0100
TZOFFSETTO:+0200
RRULE:FREQ=YEARLY;BYMONTH=3;BYDAY=-1SU
END:DAYLIGHT
END:VTIMEZONE
BEGIN:VEVENT
TZID:Europe/Amsterdam
UID:12ae8520072a9ea7835f9c1c2f36bc54@azwinfo.nl
DTSTAMP:20260421T113413
DTSTART;TZID=Europe/Amsterdam:20241015T123000
DTEND;TZID=Europe/Amsterdam:20241015T170000
SUMMARY:Clubhuiscongres: De staat en toekomst van zorg en welzijn
LOCATION:KAS - Woerden
DESCRIPTION:Op dinsdag 15 oktober 2024 is het zover, dan organiseren we weer het jaarlijks terugkerende Clubhuiscongres De staat en toekomst van zorg en welzijn. Zien we je daar? - https://www.azwinfo.nl/agenda/clubhuisbijeenkomst-de-staat-en-toekomst-van-zorg-en-welzijn/
END:VEVENT
END:VCALENDAR