BEGIN:VCALENDAR
VERSION:2.0
PRODID:-//hacksw/handcal//NONSGML v1.0//EN
BEGIN:VTIMEZONE
TZID:Europe/Amsterdam
BEGIN:STANDARD
DTSTART:20201025T030000
TZOFFSETFROM:+0200
TZOFFSETTO:+0100
RRULE:FREQ=YEARLY;BYMONTH=10;BYDAY=-1SU
END:STANDARD
BEGIN:DAYLIGHT
DTSTART:20200329T020000
TZOFFSETFROM:+0100
TZOFFSETTO:+0200
RRULE:FREQ=YEARLY;BYMONTH=3;BYDAY=-1SU
END:DAYLIGHT
END:VTIMEZONE
BEGIN:VEVENT
TZID:Europe/Amsterdam
UID:96e80097e9dd0620aa0580dbc01b2b14@azwinfo.nl
DTSTAMP:20260421T114130
DTSTART;TZID=Europe/Amsterdam:20241210T130000
DTEND;TZID=Europe/Amsterdam:20241210T170000
SUMMARY:Clubhuisbijeenkomst: Uitstroom in zorg en welzijn
LOCATION:De Witte Vosch - Utrecht
DESCRIPTION:In de sector zorg en welzijn is de uitstroom gemiddeld lager dan in andere sectoren. Tegelijkertijd is er veel mobiliteit binnen de sector: jaarlijks wisselt ongeveer 21 procent van de werknemers van baan. Zo’n 11 procent verlaat de sector volledig. - https://www.azwinfo.nl/agenda/clubhuisbijeenkomst-mobiliteit-en-uitstroom-in-zorg-en-welzijn/
END:VEVENT
END:VCALENDAR