BEGIN:VCALENDAR
VERSION:2.0
PRODID:-//hacksw/handcal//NONSGML v1.0//EN
BEGIN:VTIMEZONE
TZID:Europe/Amsterdam
BEGIN:STANDARD
DTSTART:20201025T030000
TZOFFSETFROM:+0200
TZOFFSETTO:+0100
RRULE:FREQ=YEARLY;BYMONTH=10;BYDAY=-1SU
END:STANDARD
BEGIN:DAYLIGHT
DTSTART:20200329T020000
TZOFFSETFROM:+0100
TZOFFSETTO:+0200
RRULE:FREQ=YEARLY;BYMONTH=3;BYDAY=-1SU
END:DAYLIGHT
END:VTIMEZONE
BEGIN:VEVENT
TZID:Europe/Amsterdam
UID:0f281b0914c9232bdd1aa521b9d7bc7d@azwinfo.nl
DTSTAMP:20260421T053346
DTSTART;TZID=Europe/Amsterdam:20260615T
DTEND;TZID=Europe/Amsterdam:20260615T
SUMMARY:Longread: Bol- Bbl-studenten in zorg en welzijn
LOCATION: - 
DESCRIPTION: - https://www.azwinfo.nl/agenda/longread-bol-bbl-studenten-in-zorg-en-welzijn/
END:VEVENT
END:VCALENDAR