BEGIN:VCALENDAR
VERSION:2.0
PRODID:-//hacksw/handcal//NONSGML v1.0//EN
BEGIN:VTIMEZONE
TZID:Europe/Amsterdam
BEGIN:STANDARD
DTSTART:20201025T030000
TZOFFSETFROM:+0200
TZOFFSETTO:+0100
RRULE:FREQ=YEARLY;BYMONTH=10;BYDAY=-1SU
END:STANDARD
BEGIN:DAYLIGHT
DTSTART:20200329T020000
TZOFFSETFROM:+0100
TZOFFSETTO:+0200
RRULE:FREQ=YEARLY;BYMONTH=3;BYDAY=-1SU
END:DAYLIGHT
END:VTIMEZONE
BEGIN:VEVENT
TZID:Europe/Amsterdam
UID:cb5e2b00d3239c7ad06de55e3aa30ec0@azwinfo.nl
DTSTAMP:20260421T102320
DTSTART;TZID=Europe/Amsterdam:20240422T130000
DTEND;TZID=Europe/Amsterdam:20240422T170000
SUMMARY:Werksessie: Aan de slag met het Prognosemodel
LOCATION:Social Impact Factory - Utrecht
DESCRIPTION:Kom op 22 april naar de werksessie over de scenario-editor van het prognosemodel. En ga zelf aan de slag met het samenstellen van jouw scenario!  - https://www.azwinfo.nl/agenda/werksessie-aan-de-slag-met-het-prognosemodel/
END:VEVENT
END:VCALENDAR